BEGIN:VCALENDAR
VERSION:2.0
PRODID:icalendar-ruby
CALSCALE:GREGORIAN
METHOD:PUBLISH
BEGIN:VEVENT
DTSTAMP:20260419T145055Z
UID:253-959345@gracecolorado.com
DTSTART:20261004T153000Z
DTEND:20261006T160000Z
CLASS:PUBLIC
CREATED:20260414T160115
DESCRIPTION:
LAST-MODIFIED:20260414T160115
LOCATION:Grace Presbyterian Library
SUMMARY:Wisdom & Wellness Prayer Sunday
URL;VALUE=URI:https://gracecolorado.com/events/wisdom-wellness-prayer-sunda
 y/2026-10-04
ATTACH;FILENAME=Goings On Blocks 2024 (1200 x 400 px) - 2026-04-01T203207.4
 78.png;FMTTYPE=image/png:https://dq5pwpg1q8ru0.cloudfront.net/2026/04/02/0
 2/35/13/18e73bfc-5df8-413d-9434-d072aed0e34f/Goings%20On%20Blocks%202024%2
 0(1200%20x%20400%20px)%20-%202026-04-01T203207.478.png
END:VEVENT
END:VCALENDAR
