BEGIN:VCALENDAR
VERSION:2.0
PRODID:icalendar-ruby
CALSCALE:GREGORIAN
METHOD:PUBLISH
BEGIN:VEVENT
DTSTAMP:20260422T100802Z
UID:344-960543@gracecolorado.com
DTSTART:20260420T140000Z
DTEND:20260420T220000Z
CLASS:PUBLIC
CREATED:20260414T211559
DESCRIPTION:
LAST-MODIFIED:20260414T211559
LOCATION:Grace Presbyterian
SUMMARY:Life Line Screening at Grace
URL;VALUE=URI:https://gracecolorado.com/events/life-line-screening-at-grace
 --344/2026-04-20
ATTACH;FILENAME=Life Line logo.png;FMTTYPE=image/png:https://dq5pwpg1q8ru0.
 cloudfront.net/2026/04/15/03/14/57/4029437e-0243-497e-b659-fbb43b24a3c0/Li
 fe%20Line%20logo.png
END:VEVENT
END:VCALENDAR
