BEGIN:VCALENDAR
VERSION:2.0
PRODID:icalendar-ruby
CALSCALE:GREGORIAN
METHOD:PUBLISH
BEGIN:VEVENT
DTSTAMP:20260422T142434Z
UID:345-985531@gracecolorado.com
DTSTART:20260516T180000Z
DTEND:20260516T200000Z
CLASS:PUBLIC
CREATED:20260421T163345
DESCRIPTION:
LAST-MODIFIED:20260421T163345
LOCATION:
SUMMARY:Garden Volunteer Work Day
URL;VALUE=URI:https://gracecolorado.com/events/garden-volunteer-work-day/20
 26-05-16
END:VEVENT
END:VCALENDAR
