BEGIN:VCALENDAR
VERSION:2.0
PRODID:icalendar-ruby
CALSCALE:GREGORIAN
METHOD:PUBLISH
BEGIN:VEVENT
DTSTAMP:20260420T181739Z
UID:343-959352@gracecolorado.com
DTSTART:20260531T173000Z
DTEND:20260531T190000Z
CLASS:PUBLIC
CREATED:20260414T160707
DESCRIPTION:Wisdom &amp\; Wellness invites women of all ages to join us for
  a salad-bar lunch and guided painting activity. Guests will sip spritzy\,
  non-alcoholic drinks\, including mimosas.\nCome for good food &amp\; fell
 owship\, enjoy a drink or two\, &amp\; leave with art! 
LAST-MODIFIED:20260414T160707
LOCATION:Grace Presbyterian
SUMMARY:Canvas & Mocktails--Special Lunch & Craft Event
URL;VALUE=URI:https://gracecolorado.com/events/canvas-mocktails-special-lun
 ch-craft-event/2026-05-31
ATTACH;FILENAME=Goings On E-Blocks (7).png;FMTTYPE=image/png:https://dq5pwp
 g1q8ru0.cloudfront.net/2026/04/14/22/07/07/1a5cf23b-517d-4555-a8cb-32a601a
 9d1a8/Goings%20On%20E-Blocks%20(7).png
END:VEVENT
END:VCALENDAR
